BEGIN:VCALENDAR
VERSION:2.0
PRODID:-//Mairie de Cornier - ECPv6.15.18//NONSGML v1.0//EN
CALSCALE:GREGORIAN
METHOD:PUBLISH
X-ORIGINAL-URL:https://cornier.fr
X-WR-CALDESC:Évènements pour Mairie de Cornier
REFRESH-INTERVAL;VALUE=DURATION:PT1H
X-Robots-Tag:noindex
X-PUBLISHED-TTL:PT1H
BEGIN:VTIMEZONE
TZID:UTC
BEGIN:STANDARD
TZOFFSETFROM:+0000
TZOFFSETTO:+0000
TZNAME:UTC
DTSTART:20210101T000000
END:STANDARD
END:VTIMEZONE
BEGIN:VEVENT
DTSTART;VALUE=DATE:20220107
DTEND;VALUE=DATE:20220108
DTSTAMP:20260423T174440
CREATED:20211204T093308Z
LAST-MODIFIED:20211204T191837Z
UID:3021-1641513600-1641599999@cornier.fr
SUMMARY:Voeux du maire
DESCRIPTION:Monsieur le Maire et son équipe municipale vous convient aux traditionnels voeux du Maire le vendredi 7 janvier 2022 à 19h ! \nChaque année\, début janvier\, le Maire et son équipe ouvrent le bal des manifestations annuelles en invitant tous les Corniérands à la cérémonie des vœux qui se déroule à la salle des fêtes. \nC’est l’occasion pour le Maire de rappeler la réalisation des projets de l’année passée mais également de présenter les projets qui devraient voir le jour\, ou tout au moins débuter\, au cour de la nouvelle année. \nMais c’est aussi un moment convivial où le village se retrouve\, où amis et voisins partagent le verre de l’amitié. \nVenez nombreux !
URL:https://cornier.fr/evenement/voeux-du-maire/
LOCATION:Salle des fêtes de Cornier\, 150 route de Chevrier\, Cornier\, 74800\, France
ATTACH;FMTTYPE=image/jpeg:https://cornier.fr/wp-content/uploads/2021/12/happy-new-year-6833712_1280.jpg
END:VEVENT
END:VCALENDAR