BEGIN:VCALENDAR
VERSION:2.0
PRODID:-//Mairie de Cornier - ECPv6.15.18//NONSGML v1.0//EN
CALSCALE:GREGORIAN
METHOD:PUBLISH
X-ORIGINAL-URL:https://cornier.fr
X-WR-CALDESC:Évènements pour Mairie de Cornier
REFRESH-INTERVAL;VALUE=DURATION:PT1H
X-Robots-Tag:noindex
X-PUBLISHED-TTL:PT1H
BEGIN:VTIMEZONE
TZID:UTC
BEGIN:STANDARD
TZOFFSETFROM:+0000
TZOFFSETTO:+0000
TZNAME:UTC
DTSTART:20220101T000000
END:STANDARD
END:VTIMEZONE
BEGIN:VEVENT
DTSTART;TZID=UTC:20230627T203000
DTEND;TZID=UTC:20230627T223000
DTSTAMP:20260421T122038
CREATED:20230611T185118Z
LAST-MODIFIED:20230611T185118Z
UID:5128-1687897800-1687905000@cornier.fr
SUMMARY:Concert à Cornier
DESCRIPTION:Arpège et Chanson vous convie à leur concert ! \nCe chœur regroupe une quarantaine de choristes amateurs du Pays rochois\, de 18 à 90 ans ! \nIl propose depuis 1974 un répertoire varié\, profane et religieux. Dirigée depuis 2000 par Patrick Rutgé\, directeur-adjoint de l’Ecole Municipale de Musique de la Roche-sur-Foron\, et par ailleurs professeur de chant.
URL:https://cornier.fr/evenement/concert-a-cornier/
LOCATION:Mairie de Cornier\, Place de la mairie\, Cornier\, 74800\, France
ATTACH;FMTTYPE=image/jpeg:https://cornier.fr/wp-content/uploads/2023/06/image001.jpg
END:VEVENT
END:VCALENDAR