BEGIN:VCALENDAR
VERSION:2.0
PRODID:-//Mairie de Cornier - ECPv6.15.18//NONSGML v1.0//EN
CALSCALE:GREGORIAN
METHOD:PUBLISH
X-ORIGINAL-URL:https://cornier.fr
X-WR-CALDESC:Évènements pour Mairie de Cornier
REFRESH-INTERVAL;VALUE=DURATION:PT1H
X-Robots-Tag:noindex
X-PUBLISHED-TTL:PT1H
BEGIN:VTIMEZONE
TZID:Europe/Helsinki
BEGIN:DAYLIGHT
TZOFFSETFROM:+0200
TZOFFSETTO:+0300
TZNAME:EEST
DTSTART:20250330T010000
END:DAYLIGHT
BEGIN:STANDARD
TZOFFSETFROM:+0300
TZOFFSETTO:+0200
TZNAME:EET
DTSTART:20251026T010000
END:STANDARD
BEGIN:DAYLIGHT
TZOFFSETFROM:+0200
TZOFFSETTO:+0300
TZNAME:EEST
DTSTART:20260329T010000
END:DAYLIGHT
BEGIN:STANDARD
TZOFFSETFROM:+0300
TZOFFSETTO:+0200
TZNAME:EET
DTSTART:20261025T010000
END:STANDARD
BEGIN:DAYLIGHT
TZOFFSETFROM:+0200
TZOFFSETTO:+0300
TZNAME:EEST
DTSTART:20270328T010000
END:DAYLIGHT
BEGIN:STANDARD
TZOFFSETFROM:+0300
TZOFFSETTO:+0200
TZNAME:EET
DTSTART:20271031T010000
END:STANDARD
END:VTIMEZONE
BEGIN:VEVENT
DTSTART;TZID=Europe/Helsinki:20260503T070000
DTEND;TZID=Europe/Helsinki:20260503T170000
DTSTAMP:20260425T191959
CREATED:20260421T180900Z
LAST-MODIFIED:20260421T181143Z
UID:6367-1777791600-1777827600@cornier.fr
SUMMARY:Marché des producteurs & vide greniers
DESCRIPTION:  \nRendez-vous au stade de foot le 3 mai pour le marché des producteurs et vide grenier. \nOrganisé par l’ESAC.
URL:https://cornier.fr/evenement/marche-des-producteurs-vide-greniers/
LOCATION:Stade de Cornier\, Le Chatelet\, Cornier\, 74800\, France
ATTACH;FMTTYPE=image/jpeg:https://cornier.fr/wp-content/uploads/2026/04/Marche-des-producteurs-et-vide-grenier-Cornier-3-mai-2026.jpeg
END:VEVENT
END:VCALENDAR