BEGIN:VCALENDAR
VERSION:2.0
PRODID:-//Mairie de Cornier - ECPv6.15.18//NONSGML v1.0//EN
CALSCALE:GREGORIAN
METHOD:PUBLISH
X-ORIGINAL-URL:https://cornier.fr
X-WR-CALDESC:Évènements pour Mairie de Cornier
REFRESH-INTERVAL;VALUE=DURATION:PT1H
X-Robots-Tag:noindex
X-PUBLISHED-TTL:PT1H
BEGIN:VTIMEZONE
TZID:UTC
BEGIN:STANDARD
TZOFFSETFROM:+0000
TZOFFSETTO:+0000
TZNAME:UTC
DTSTART:20250101T000000
END:STANDARD
END:VTIMEZONE
BEGIN:VEVENT
DTSTART;TZID=UTC:20260506T143000
DTEND;TZID=UTC:20260506T170000
DTSTAMP:20260425T231635
CREATED:20260421T183049Z
LAST-MODIFIED:20260421T183049Z
UID:6378-1778077800-1778086800@cornier.fr
SUMMARY:Les escales de la MJC à Cornier
DESCRIPTION:Jeux\, animations et découvertes des jardins partagés (derrière la salle des fêtes).
URL:https://cornier.fr/evenement/les-escales-de-la-mjc-a-cornier/
LOCATION:Salle des fêtes de Cornier\, 150 route de Chevrier\, Cornier\, 74800\, France
ATTACH;FMTTYPE=image/jpeg:https://cornier.fr/wp-content/uploads/2026/04/Polish_20260409_153750670.jpg
END:VEVENT
END:VCALENDAR