BEGIN:VCALENDAR
VERSION:2.0
PRODID:-//Mairie de Cornier - ECPv6.15.18//NONSGML v1.0//EN
CALSCALE:GREGORIAN
METHOD:PUBLISH
X-ORIGINAL-URL:https://cornier.fr
X-WR-CALDESC:Évènements pour Mairie de Cornier
REFRESH-INTERVAL;VALUE=DURATION:PT1H
X-Robots-Tag:noindex
X-PUBLISHED-TTL:PT1H
BEGIN:VTIMEZONE
TZID:UTC
BEGIN:STANDARD
TZOFFSETFROM:+0000
TZOFFSETTO:+0000
TZNAME:UTC
DTSTART:20210101T000000
END:STANDARD
END:VTIMEZONE
BEGIN:VEVENT
DTSTART;VALUE=DATE:20220625
DTEND;VALUE=DATE:20220626
DTSTAMP:20260423T065421
CREATED:20211204T173704Z
LAST-MODIFIED:20211204T173816Z
UID:3292-1656115200-1656201599@cornier.fr
SUMMARY:Fête des écoles
DESCRIPTION:Organisé par l’association de la Cantine de Cornier
URL:https://cornier.fr/evenement/fete-des-ecoles/
LOCATION:Salle des fêtes de Cornier\, 150 route de Chevrier\, Cornier\, 74800\, France
ATTACH;FMTTYPE=image/jpeg:https://cornier.fr/wp-content/uploads/2021/12/Banderole-fete.jpg
END:VEVENT
END:VCALENDAR