BEGIN:VCALENDAR
VERSION:2.0
PRODID:-//Mairie de Cornier - ECPv6.15.18//NONSGML v1.0//EN
CALSCALE:GREGORIAN
METHOD:PUBLISH
X-WR-CALNAME:Mairie de Cornier
X-ORIGINAL-URL:https://cornier.fr
X-WR-CALDESC:Évènements pour Mairie de Cornier
REFRESH-INTERVAL;VALUE=DURATION:PT1H
X-Robots-Tag:noindex
X-PUBLISHED-TTL:PT1H
BEGIN:VTIMEZONE
TZID:UTC
BEGIN:STANDARD
TZOFFSETFROM:+0000
TZOFFSETTO:+0000
TZNAME:UTC
DTSTART:20210101T000000
END:STANDARD
END:VTIMEZONE
BEGIN:VEVENT
DTSTART;VALUE=DATE:20221201
DTEND;VALUE=DATE:20221202
DTSTAMP:20260421T105020
CREATED:20211204T191729Z
LAST-MODIFIED:20211204T192316Z
UID:3335-1669852800-1669939199@cornier.fr
SUMMARY:Illuminations et décorations du village
DESCRIPTION:En décembre\, nos amis lutins embellissent la commune pour retrouver un peu de magie de fin d’année.\nSapins guirlandes et crèches apparaissent à chaque coin de notre village et illuminent nos différents quartiers pour le bonheur de tous !
URL:https://cornier.fr/evenement/illuminations-et-decorations-du-village/
LOCATION:Village de Cornier
ATTACH;FMTTYPE=image/jpeg:https://cornier.fr/wp-content/uploads/2021/12/blur-3380135_1280.jpg
END:VEVENT
BEGIN:VEVENT
DTSTART;VALUE=DATE:20221201
DTEND;VALUE=DATE:20221202
DTSTAMP:20260421T105020
CREATED:20230303T094726Z
LAST-MODIFIED:20230303T094726Z
UID:4955-1669852800-1669939199@cornier.fr
SUMMARY:Illuminations et décorations du village
DESCRIPTION:En décembre\, nos amis lutins embellissent la commune pour retrouver un peu de magie de fin d’année.\nSapins guirlandes et crèches apparaissent à chaque coin de notre village et illuminent nos différents quartiers pour le bonheur de tous !
URL:https://cornier.fr/evenement/illuminations-et-decorations-du-village-2/
LOCATION:Village de Cornier
ATTACH;FMTTYPE=image/jpeg:https://cornier.fr/wp-content/uploads/2021/12/blur-3380135_1280.jpg
END:VEVENT
BEGIN:VEVENT
DTSTART;VALUE=DATE:20221203
DTEND;VALUE=DATE:20221204
DTSTAMP:20260421T105020
CREATED:20211204T190323Z
LAST-MODIFIED:20220407T122409Z
UID:3321-1670025600-1670111999@cornier.fr
SUMMARY:Marché de Noël
DESCRIPTION:Au programme : chants de Noël par les élèves des deux écoles de Cornier\, marché de Noël offrant à la vente des créations réalisées par les familles\, vente de sapins (sous réservation)\, restauration (tartiflette\, diots pommes de terre\, buvette) \nOrganisé par l’association du Sou des écoles de Cornier\, avec la participation de l’association de la Cantine de Cornier (tartiflette)
URL:https://cornier.fr/evenement/marche-de-noel/
LOCATION:Salle des fêtes de Cornier\, 150 route de Chevrier\, Cornier\, 74800\, France
ATTACH;FMTTYPE=image/jpeg:https://cornier.fr/wp-content/uploads/2021/12/gnome-5776661_1280.jpg
END:VEVENT
BEGIN:VEVENT
DTSTART;VALUE=DATE:20221210
DTEND;VALUE=DATE:20221211
DTSTAMP:20260421T105020
CREATED:20211204T191042Z
LAST-MODIFIED:20220407T122231Z
UID:3332-1670630400-1670716799@cornier.fr
SUMMARY:Visite du père Noël à nos anciens
DESCRIPTION:Date à confirmer \nDepuis de nombreuses années maintenant\, à l’approche de Noël\, l’association rend visite aux habitants âgés de 80 ans et plus\, le temps d’échanger quelques nouvelles ou des souvenirs d’antan et de remettre à tous un petit présent. \nOrganisé par l’association Un peu plus pour Cornier
URL:https://cornier.fr/evenement/visite-du-pere-noel-a-nos-anciens/
ATTACH;FMTTYPE=image/jpeg:https://cornier.fr/wp-content/uploads/2021/12/santa-claus-6741515_1280.jpg
END:VEVENT
END:VCALENDAR